Workbook

Sheet Test 1
A1: Test 1 | V1: Weight | W1: Mass (kg) | Y1: Test | Z1: Temperature (°C) | AA1: Wire Diameter (mm) | AB1: Mass (kg) | AC1: Weight (N) | AD1: Stress (MPa)
A2: Time (s) | B2: Elongation (in) | D2: Time (min) | E2: ΔL (in) | F2: Strain | G2: Time (min) | H2: ΔL (in) | I2: Strain | J2: Time (min) | K2: ΔL (in) | L2: Strain | V2: 1 | W2: 1 | Y2: 1 | Z2: 925 | AA2: =$W$12*25.4 -> 0.38608 | AB2: =SUM($W$2:$W$4) -> 1.498 | AC2: =AB2*9.81 -> 14.69538 | AD2: =(AC2/W15) -> 125.52676
A3: 0 | B3: 90 | D3: =A3/60 -> 0 | E3: =(90-B3)*0.001 -> 0 | F3: =E3/$V$29 -> 0 | G3: 6.5 | H3: =E42 -> 0.039 | I3: =H3/5.95 -> 0.0065546218 | J3: 13 | K3: =E81 -> 0.079 | L3: =K3/5.95 -> 0.013277311 | V3: 2 | W3: =298.5/1000 -> 0.2985 | Y3: 2 | Z3: 950 | AA3: =$W$12*25.4 -> 0.38608 | AB3: =SUM($W$2:$W$4) -> 1.498 | AC3: =AB3*9.81 -> 14.69538 | AD3: =(AC3/W16) -> 125.52676
A4: 10 | B4: 82 | D4: =A4/60 -> 0.16666667 | E4: =(90-B4)*0.001 -> 0.008 | F4: =E4/$V$29 -> 0.0013445378 | G4: 6.6666667 | H4: =E43 -> 0.039 | I4: =H4/5.95 -> 0.0065546218 | J4: 13.166667 | K4: =E82 -> 0.079 | L4: =K4/5.95 -> 0.013277311 | V4: 3 | W4: =199.5/1000 -> 0.1995 | Y4: 3 | Z4: 975 | AA4: =$W$12*25.4 -> 0.38608 | AB4: =SUM($W$2:$W$4) -> 1.498 | AC4: =AB4*9.81 -> 14.69538 | AD4: =(AC4/W17) -> 125.52676
A5: =A4+10 -> 20 | B5: 76 | D5: =A5/60 -> 0.33333333 | E5: =(90-B5)*0.001 -> 0.014 | F5: =E5/$V$29 -> 0.0023529412 | G5: 6.8333333 | H5: =E44 -> 0.039 | I5: =H5/5.95 -> 0.0065546218 | J5: 13.333333 | K5: =E83 -> 0.079 | L5: =K5/5.95 -> 0.013277311 | Y5: 4 | Z5: 975 | AA5: =$W$12*25.4 -> 0.38608 | AB5: =$W$2+$W$3 -> 1.2985 | AC5: =AB5*9.81 -> 12.738285 | AD5: =(AC5/W18) -> 108.80941
A6: =A5+10 -> 30 | B6: 74 | D6: =A6/60 -> 0.5 | E6: =(90-B6)*0.001 -> 0.016 | F6: =E6/$V$29 -> 0.0026890756 | G6: 7 | H6: =E45 -> 0.043 | I6: =H6/5.95 -> 0.0072268908 | J6: 13.5 | K6: =E84 -> 0.079 | L6: =K6/5.95 -> 0.013277311 | V6: Trial | W6: diameter | Y6: 5 | Z6: 975 | AA6: =$W$12*25.4 -> 0.38608 | AB6: =$W$2+$W$4 -> 1.1995 | AC6: =AB6*9.81 -> 11.767095 | AD6: =(AC6/W19) -> 100.51359
A7: =A6+10 -> 40 | B7: 73 | D7: =A7/60 -> 0.66666667 | E7: =(90-B7)*0.001 -> 0.017 | F7: =E7/$V$29 -> 0.0028571429 | G7: 7.1666667 | H7: =E46 -> 0.043 | I7: =H7/5.95 -> 0.0072268908 | J7: 13.666667 | K7: =E85 -> 0.08 | L7: =K7/5.95 -> 0.013445378 | V7: 1 | W7: 0.0155
A8: =A7+10 -> 50 | B8: 73 | D8: =A8/60 -> 0.83333333 | E8: =(90-B8)*0.001 -> 0.017 | F8: =E8/$V$29 -> 0.0028571429 | G8: 7.3333333 | H8: =E47 -> 0.045 | I8: =H8/5.95 -> 0.0075630252 | J8: 13.833333 | K8: =E86 -> 0.085 | L8: =K8/5.95 -> 0.014285714 | V8: 2 | W8: 0.0155
A9: =A8+10 -> 60 | B9: 73 | D9: =A9/60 -> 1 | E9: =(90-B9)*0.001 -> 0.017 | F9: =E9/$V$29 -> 0.0028571429 | G9: 7.5 | H9: =E48 -> 0.05 | I9: =H9/5.95 -> 0.0084033613 | J9: 14 | K9: =E87 -> 0.085 | L9: =K9/5.95 -> 0.014285714 | V9: 3 | W9: 0.0145
A10: =A9+10 -> 70 | B10: 72 | D10: =A10/60 -> 1.1666667 | E10: =(90-B10)*0.001 -> 0.018 | F10: =E10/$V$29 -> 0.0030252101 | G10: 7.6666667 | H10: =E49 -> 0.05 | I10: =H10/5.95 -> 0.0084033613 | J10: 14.166667 | K10: =E88 -> 0.085 | L10: =K10/5.95 -> 0.014285714 | V10: 4 | W10: 0.0155
A11: =A10+10 -> 80 | B11: 72 | D11: =A11/60 -> 1.3333333 | E11: =(90-B11)*0.001 -> 0.018 | F11: =E11/$V$29 -> 0.0030252101 | G11: 7.8333333 | H11: =E50 -> 0.05 | I11: =H11/5.95 -> 0.0084033613 | J11: 14.333333 | K11: =E89 -> 0.085 | L11: =K11/5.95 -> 0.014285714 | V11: 5 | W11: 0.015
A12: =A11+10 -> 90 | B12: 70 | D12: =A12/60 -> 1.5 | E12: =(90-B12)*0.001 -> 0.02 | F12: =E12/$V$29 -> 0.0033613445 | G12: 8 | H12: =E51 -> 0.05 | I12: =H12/5.95 -> 0.0084033613 | J12: 14.5 | K12: =E90 -> 0.085 | L12: =K12/5.95 -> 0.014285714 | V12: Average | W12: =AVERAGE(W7:W11) -> 0.0152
A13: =A12+10 -> 100 | B13: 68 | D13: =A13/60 -> 1.6666667 | E13: =(90-B13)*0.001 -> 0.022 | F13: =E13/$V$29 -> 0.003697479 | G13: 8.1666667 | H13: =E52 -> 0.051 | I13: =H13/5.95 -> 0.0085714286 | J13: 14.666667 | K13: =E91 -> 0.085 | L13: =K13/5.95 -> 0.014285714
A14: =A13+10 -> 110 | B14: 68 | D14: =A14/60 -> 1.8333333 | E14: =(90-B14)*0.001 -> 0.022 | F14: =E14/$V$29 -> 0.003697479 | G14: 8.3333333 | H14: =E53 -> 0.056 | I14: =H14/5.95 -> 0.0094117647 | J14: 14.833333 | K14: =E92 -> 0.085 | L14: =K14/5.95 -> 0.014285714 | V14: Wire | W14: Area
A15: =A14+10 -> 120 | B15: 68 | D15: =A15/60 -> 2 | E15: =(90-B15)*0.001 -> 0.022 | F15: =E15/$V$29 -> 0.003697479 | G15: 8.5 | H15: =E54 -> 0.056 | I15: =H15/5.95 -> 0.0094117647 | J15: 15 | K15: =E93 -> 0.086 | L15: =K15/5.95 -> 0.014453782 | V15: 1 | W15: =(((AA2)^2)/4)*PI() -> 0.1170697
A16: =A15+10 -> 130 | B16: 68 | D16: =A16/60 -> 2.1666667 | E16: =(90-B16)*0.001 -> 0.022 | F16: =E16/$V$29 -> 0.003697479 | G16: 8.6666667 | H16: =E55 -> 0.056 | I16: =H16/5.95 -> 0.0094117647 | J16: 15.166667 | K16: =E94 -> 0.093 | L16: =K16/5.95 -> 0.015630252 | V16: 2 | W16: =(((AA3)^2)/4)*PI() -> 0.1170697
A17: =A16+10 -> 140 | B17: 67 | D17: =A17/60 -> 2.3333333 | E17: =(90-B17)*0.001 -> 0.023 | F17: =E17/$V$29 -> 0.0038655462 | G17: 8.8333333 | H17: =E56 -> 0.057 | I17: =H17/5.95 -> 0.0095798319 | J17: 15.333333 | K17: =E95 -> 0.093 | L17: =K17/5.95 -> 0.015630252 | V17: 3 | W17: =(((AA4)^2)/4)*PI() -> 0.1170697
A18: =A17+10 -> 150 | B18: 67 | D18: =A18/60 -> 2.5 | E18: =(90-B18)*0.001 -> 0.023 | F18: =E18/$V$29 -> 0.0038655462 | G18: 9 | H18: =E57 -> 0.058 | I18: =H18/5.95 -> 0.0097478992 | J18: 15.5 | K18: =E96 -> 0.093 | L18: =K18/5.95 -> 0.015630252 | V18: 4 | W18: =(((AA5)^2)/4)*PI() -> 0.1170697
A19: =A18+10 -> 160 | B19: 66 | D19: =A19/60 -> 2.6666667 | E19: =(90-B19)*0.001 -> 0.024 | F19: =E19/$V$29 -> 0.0040336134 | G19: 9.1666667 | H19: =E58 -> 0.062 | I19: =H19/5.95 -> 0.010420168 | J19: 15.666667 | K19: =E97 -> 0.094 | L19: =K19/5.95 -> 0.015798319 | V19: 5 | W19: =(((AA6)^2)/4)*PI() -> 0.1170697
A20: =A19+10 -> 170 | B20: 65 | D20: =A20/60 -> 2.8333333 | E20: =(90-B20)*0.001 -> 0.025 | F20: =E20/$V$29 -> 0.0042016807 | G20: 9.3333333 | H20: =E59 -> 0.062 | I20: =H20/5.95 -> 0.010420168 | J20: 15.833333 | K20: =E98 -> 0.094 | L20: =K20/5.95 -> 0.015798319
A21: =A20+10 -> 180 | B21: 64 | D21: =A21/60 -> 3 | E21: =(90-B21)*0.001 -> 0.026 | F21: =E21/$V$29 -> 0.0043697479 | G21: 9.5 | H21: =E60 -> 0.062 | I21: =H21/5.95 -> 0.010420168 | J21: 16 | K21: =E99 -> 0.094 | L21: =K21/5.95 -> 0.015798319 | V21: Wire | W21: Mass (kg)
A22: =A21+10 -> 190 | B22: 64 | D22: =A22/60 -> 3.1666667 | E22: =(90-B22)*0.001 -> 0.026 | F22: =E22/$V$29 -> 0.0043697479 | G22: 9.6666667 | H22: =E61 -> 0.062 | I22: =H22/5.95 -> 0.010420168 | J22: 16.166667 | K22: =E100 -> 0.094 | L22: =K22/5.95 -> 0.015798319 | V22: 1 | W22: =SUM($W$2:$W$4) -> 1.498
A23: =A22+10 -> 200 | B23: 64 | D23: =A23/60 -> 3.3333333 | E23: =(90-B23)*0.001 -> 0.026 | F23: =E23/$V$29 -> 0.0043697479 | G23: 9.8333333 | H23: =E62 -> 0.063 | I23: =H23/5.95 -> 0.010588235 | J23: 16.333333 | K23: =E101 -> 0.094 | L23: =K23/5.95 -> 0.015798319 | V23: 2 | W23: =SUM($W$2:$W$4) -> 1.498
A24: =A23+10 -> 210 | B24: 63 | D24: =A24/60 -> 3.5 | E24: =(90-B24)*0.001 -> 0.027 | F24: =E24/$V$29 -> 0.0045378151 | G24: 10 | H24: =E63 -> 0.063 | I24: =H24/5.95 -> 0.010588235 | J24: 16.5 | K24: =E102 -> 0.095 | L24: =K24/5.95 -> 0.015966387 | V24: 3 | W24: =SUM($W$2:$W$4) -> 1.498
A25: =A24+10 -> 220 | B25: 61 | D25: =A25/60 -> 3.6666667 | E25: =(90-B25)*0.001 -> 0.029 | F25: =E25/$V$29 -> 0.0048739496 | G25: 10.166667 | H25: =E64 -> 0.063 | I25: =H25/5.95 -> 0.010588235 | J25: 16.666667 | K25: =E103 -> 0.095 | L25: =K25/5.95 -> 0.015966387 | V25: 4 | W25: =$W$2+$W$3 -> 1.2985
A26: =A25+10 -> 230 | B26: 60 | D26: =A26/60 -> 3.8333333 | E26: =(90-B26)*0.001 -> 0.03 | F26: =E26/$V$29 -> 0.0050420168 | G26: 10.333333 | H26: =E65 -> 0.063 | I26: =H26/5.95 -> 0.010588235 | J26: 16.833333 | K26: =E104 -> 0.096 | L26: =K26/5.95 -> 0.016134454 | V26: 5 | W26: =$W$2+$W$4 -> 1.1995
A27: =A26+10 -> 240 | B27: 60 | D27: =A27/60 -> 4 | E27: =(90-B27)*0.001 -> 0.03 | F27: =E27/$V$29 -> 0.0050420168 | G27: 10.5 | H27: =E66 -> 0.067 | I27: =H27/5.95 -> 0.011260504 | J27: 17 | K27: =E105 -> 0.097 | L27: =K27/5.95 -> 0.016302521
A28: =A27+10 -> 250 | B28: 60 | D28: =A28/60 -> 4.1666667 | E28: =(90-B28)*0.001 -> 0.03 | F28: =E28/$V$29 -> 0.0050420168 | G28: 10.666667 | H28: =E67 -> 0.068 | I28: =H28/5.95 -> 0.011428571 | J28: 17.166667 | K28: =E106 -> 0.101 | L28: =K28/5.95 -> 0.01697479 | V28: Length (in) | W28: Length (mm)
A29: =A28+10 -> 260 | B29: 60 | D29: =A29/60 -> 4.3333333 | E29: =(90-B29)*0.001 -> 0.03 | F29: =E29/$V$29 -> 0.0050420168 | G29: 10.833333 | H29: =E68 -> 0.069 | I29: =H29/5.95 -> 0.011596639 | J29: 17.333333 | K29: =E107 -> 0.101 | L29: =K29/5.95 -> 0.01697479 | V29: 5.95 | W29: =V29*25.4 -> 151.13
A30: =A29+10 -> 270 | B30: 60 | D30: =A30/60 -> 4.5 | E30: =(90-B30)*0.001 -> 0.03 | F30: =E30/$V$29 -> 0.0050420168 | G30: 11 | H30: =E69 -> 0.069 | I30: =H30/5.95 -> 0.011596639 | J30: 17.5 | K30: =E108 -> 0.101 | L30: =K30/5.95 -> 0.01697479
A31: =A30+10 -> 280 | B31: 60 | D31: =A31/60 -> 4.6666667 | E31: =(90-B31)*0.001 -> 0.03 | F31: =E31/$V$29 -> 0.0050420168 | G31: 11.166667 | H31: =E70 -> 0.069 | I31: =H31/5.95 -> 0.011596639 | J31: 17.666667 | K31: =E109 -> 0.101 | L31: =K31/5.95 -> 0.01697479
A32: =A31+10 -> 290 | B32: 60 | D32: =A32/60 -> 4.8333333 | E32: =(90-B32)*0.001 -> 0.03 | F32: =E32/$V$29 -> 0.0050420168 | G32: 11.333333 | H32: =E71 -> 0.069 | I32: =H32/5.95 -> 0.011596639 | J32: 17.833333 | K32: =E110 -> 0.102 | L32: =K32/5.95 -> 0.017142857
A33: =A32+10 -> 300 | B33: 60 | D33: =A33/60 -> 5 | E33: =(90-B33)*0.001 -> 0.03 | F33: =E33/$V$29 -> 0.0050420168 | G33: 11.5 | H33: =E72 -> 0.069 | I33: =H33/5.95 -> 0.011596639 | J33: 18 | K33: =E111 -> 0.108 | L33: =K33/5.95 -> 0.018151261
A34: =A33+10 -> 310 | B34: 58 | D34: =A34/60 -> 5.1666667 | E34: =(90-B34)*0.001 -> 0.032 | F34: =E34/$V$29 -> 0.0053781513 | G34: 11.666667 | H34: =E73 -> 0.071 | I34: =H34/5.95 -> 0.011932773 | J34: 18.166667 | K34: =E112 -> 0.108 | L34: =K34/5.95 -> 0.018151261
A35: =A34+10 -> 320 | B35: 58 | D35: =A35/60 -> 5.3333333 | E35: =(90-B35)*0.001 -> 0.032 | F35: =E35/$V$29 -> 0.0053781513 | G35: 11.833333 | H35: =E74 -> 0.072 | I35: =H35/5.95 -> 0.01210084 | J35: 18.333333 | K35: =E113 -> 0.109 | L35: =K35/5.95 -> 0.018319328
A36: =A35+10 -> 330 | B36: 51 | D36: =A36/60 -> 5.5 | E36: =(90-B36)*0.001 -> 0.039 | F36: =E36/$V$29 -> 0.0065546218 | G36: 12 | H36: =E75 -> 0.072 | I36: =H36/5.95 -> 0.01210084 | J36: 18.5 | K36: =E114 -> 0.109 | L36: =K36/5.95 -> 0.018319328
A37: =A36+10 -> 340 | B37: 51 | D37: =A37/60 -> 5.6666667 | E37: =(90-B37)*0.001 -> 0.039 | F37: =E37/$V$29 -> 0.0065546218 | G37: 12.166667 | H37: =E76 -> 0.072 | I37: =H37/5.95 -> 0.01210084 | J37: 18.666667 | K37: =E115 -> 0.109 | L37: =K37/5.95 -> 0.018319328
A38: =A37+10 -> 350 | B38: 51 | D38: =A38/60 -> 5.8333333 | E38: =(90-B38)*0.001 -> 0.039 | F38: =E38/$V$29 -> 0.0065546218 | G38: 12.333333 | H38: =E77 -> 0.072 | I38: =H38/5.95 -> 0.01210084 | J38: 18.833333 | K38: =E116 -> 0.113 | L38: =K38/5.95 -> 0.018991597
A39: =A38+10 -> 360 | B39: 51 | D39: =A39/60 -> 6 | E39: =(90-B39)*0.001 -> 0.039 | F39: =E39/$V$29 -> 0.0065546218 | G39: 12.5 | H39: =E78 -> 0.072 | I39: =H39/5.95 -> 0.01210084 | J39: 19 | K39: =E117 -> 0.113 | L39: =K39/5.95 -> 0.018991597
A40: =A39+10 -> 370 | B40: 51 | D40: =A40/60 -> 6.1666667 | E40: =(90-B40)*0.001 -> 0.039 | F40: =E40/$V$29 -> 0.0065546218 | G40: 12.666667 | H40: =E79 -> 0.074 | I40: =H40/5.95 -> 0.012436975 | J40: 19.166667 | K40: =E118 -> 0.119 | L40: =K40/5.95 -> 0.02
A41: =A40+10 -> 380 | B41: 51 | D41: =A41/60 -> 6.3333333 | E41: =(90-B41)*0.001 -> 0.039 | F41: =E41/$V$29 -> 0.0065546218 | G41: 12.833333 | H41: =E80 -> 0.078 | I41: =H41/5.95 -> 0.013109244 | J41: 19.333333 | K41: =E119 -> 0.119 | L41: =K41/5.95 -> 0.02
A42: =A41+10 -> 390 | B42: 51 | D42: =A42/60 -> 6.5 | E42: =(90-B42)*0.001 -> 0.039 | F42: =E42/$V$29 -> 0.0065546218
A43: =A42+10 -> 400 | B43: 51 | D43: =A43/60 -> 6.6666667 | E43: =(90-B43)*0.001 -> 0.039 | F43: =E43/$V$29 -> 0.0065546218
A44: =A43+10 -> 410 | B44: 51 | D44: =A44/60 -> 6.8333333 | E44: =(90-B44)*0.001 -> 0.039 | F44: =E44/$V$29 -> 0.0065546218
A45: =A44+10 -> 420 | B45: 47 | D45: =A45/60 -> 7 | E45: =(90-B45)*0.001 -> 0.043 | F45: =E45/$V$29 -> 0.0072268908
A46: =A45+10 -> 430 | B46: 47 | D46: =A46/60 -> 7.1666667 | E46: =(90-B46)*0.001 -> 0.043 | F46: =E46/$V$29 -> 0.0072268908
A47: =A46+10 -> 440 | B47: 45 | D47: =A47/60 -> 7.3333333 | E47: =(90-B47)*0.001 -> 0.045 | F47: =E47/$V$29 -> 0.0075630252
A48: =A47+10 -> 450 | B48: 40 | D48: =A48/60 -> 7.5 | E48: =(90-B48)*0.001 -> 0.05 | F48: =E48/$V$29 -> 0.0084033613
A49: =A48+10 -> 460 | B49: 40 | D49: =A49/60 -> 7.6666667 | E49: =(90-B49)*0.001 -> 0.05 | F49: =E49/$V$29 -> 0.0084033613
A50: =A49+10 -> 470 | B50: 40 | D50: =A50/60 -> 7.8333333 | E50: =(90-B50)*0.001 -> 0.05 | F50: =E50/$V$29 -> 0.0084033613
A51: =A50+10 -> 480 | B51: 40 | D51: =A51/60 -> 8 | E51: =(90-B51)*0.001 -> 0.05 | F51: =E51/$V$29 -> 0.0084033613
A52: =A51+10 -> 490 | B52: 39 | D52: =A52/60 -> 8.1666667 | E52: =(90-B52)*0.001 -> 0.051 | F52: =E52/$V$29 -> 0.0085714286
A53: =A52+10 -> 500 | B53: 34 | D53: =A53/60 -> 8.3333333 | E53: =(90-B53)*0.001 -> 0.056 | F53: =E53/$V$29 -> 0.0094117647
... A219: =A218+10 -> 2160 | B219: -248 | D219: =A219/60 -> 36 | E219: =(90-B219)*0.001 -> 0.338 | F219: =E219/$V$29 -> 0.056806723

Sheet Test 1 - Table
A1: Column1 | B1: Column2 | C1: Column3 | D1: Column4 | E1: Column5 | F1: Column6 | G1: Column7 | H1: Column8 | I1: Column9 | J1: Column10 | K1: Column11 | L1: Column12 | M1: Column13 | N1: Column14 | O1: Column15 | P1: Column16 | Q1: Column17 | R1: Column18 | T1: Column1 | U1: Column2 | V1: Column3 | W1: Column4 | X1: Column5 | Y1: Column6 | Z1: Column7 | AA1: Column8 | AB1: Column9
A2: Time (min) | B2: ΔL (in) | C2: Strain | D2: Time (min) | E2: ΔL (in) | F2: Strain | G2: Time (min) | H2: ΔL (in) | I2: Strain | T2: Time (min) | U2: ΔL (in) | V2: Strain | W2: Time (min) | X2: ΔL (in) | Y2: Strain | Z2: Time (min) | AA2: ΔL (in) | AB2: Strain
A3: 0 | B3: 0 | C3: 0 | D3: 6.5 | E3: 39 | F3: 6.5546218 | G3: 13 | H3: 79 | I3: 13.277311 | T3: 0 | U3: =Table4[[#This Row],[Column2]]*0.001 -> 0 | V3: =U3/5.95 -> 0 | W3: 6.5 | X3: =Table4[[#This Row],[Column5]]*0.001 -> 0.039 | Y3: =Table12[[#This Row],[Column5]]/5.95 -> 0.0065546218 | Z3: 13 | AA3: =Table4[[#This Row],[Column8]]*0.001 -> 0.079 | AB3: =AA3/5.95 -> 0.013277311
A4: 0.16666667 | B4: 8 | C4: 1.3445378 | D4: 6.6666667 | E4: 39 | F4: 6.5546218 | G4: 13.166667 | H4: 79 | I4: 13.277311 | T4: 0.16666667 | U4: =Table4[[#This Row],[Column2]]*0.001 -> 0.008 | V4: =U4/5.95 -> 0.0013445378 | W4: 6.6666667 | X4: =Table4[[#This Row],[Column5]]*0.001 -> 0.039 | Y4: =Table12[[#This Row],[Column5]]/5.95 -> 0.0065546218 | Z4: 13.166667 | AA4: =Table4[[#This Row],[Column8]]*0.001 -> 0.079 | AB4: =AA4/5.95 -> 0.013277311
A5: 0.33333333 | B5: 14 | C5: 2.3529412 | D5: 6.8333333 | E5: 39 | F5: 6.5546218 | G5: 13.333333 | H5: 79 | I5: 13.277311 | T5: 0.33333333 | U5: =Table4[[#This Row],[Column2]]*0.001 -> 0.014 | V5: =U5/5.95 -> 0.0023529412 | W5: 6.8333333 | X5: =Table4[[#This Row],[Column5]]*0.001 -> 0.039 | Y5: =Table12[[#This Row],[Column5]]/5.95 -> 0.0065546218 | Z5: 13.333333 | AA5: =Table4[[#This Row],[Column8]]*0.001 -> 0.079 | AB5: =AA5/5.95 -> 0.013277311
A6: 0.5 | B6: 16 | C6: 2.6890756 | D6: 7 | E6: 43 | F6: 7.2268908 | G6: 13.5 | H6: 79 | I6: 13.277311 | T6: 0.5 | U6: =Table4[[#This Row],[Column2]]*0.001 -> 0.016 | V6: =U6/5.95 -> 0.0026890756 | W6: 7 | X6: =Table4[[#This Row],[Column5]]*0.001 -> 0.043 | Y6: =Table12[[#This Row],[Column5]]/5.95 -> 0.0072268908 | Z6: 13.5 | AA6: =Table4[[#This Row],[Column8]]*0.001 -> 0.079 | AB6: =AA6/5.95 -> 0.013277311
A7: 0.66666667 | B7: 17 | C7: 2.8571429 | D7: 7.1666667 | E7: 43 | F7: 7.2268908 | G7: 13.666667 | H7: 80 | I7: 13.445378 | T7: 0.66666667 | U7: =Table4[[#This Row],[Column2]]*0.001 -> 0.017 | V7: =U7/5.95 -> 0.0028571429 | W7: 7.1666667 | X7: =Table4[[#This Row],[Column5]]*0.001 -> 0.043 | Y7: =Table12[[#This Row],[Column5]]/5.95 -> 0.0072268908 | Z7: 13.666667 | AA7: =Table4[[#This Row],[Column8]]*0.001 -> 0.08 | AB7: =AA7/5.95 -> 0.013445378
A8: 0.83333333 | B8: 17 | C8: 2.8571429 | D8: 7.3333333 | E8: 45 | F8: 7.5630252 | G8: 13.833333 | H8: 85 | I8: 14.285714 | T8: 0.83333333 | U8: =Table4[[#This Row],[Column2]]*0.001 -> 0.017 | V8: =U8/5.95 -> 0.0028571429 | W8: 7.3333333 | X8: =Table4[[#This Row],[Column5]]*0.001 -> 0.045 | Y8: =Table12[[#This Row],[Column5]]/5.95 -> 0.0075630252 | Z8: 13.833333 | AA8: =Table4[[#This Row],[Column8]]*0.001 -> 0.085 | AB8: =AA8/5.95 -> 0.014285714
A9: 1 | B9: 17 | C9: 2.8571429 | D9: 7.5 | E9: 50 | F9: 8.4033613 | G9: 14 | H9: 85 | I9: 14.285714 | T9: 1 | U9: =Table4[[#This Row],[Column2]]*0.001 -> 0.017 | V9: =U9/5.95 -> 0.0028571429 | W9: 7.5 | X9: =Table4[[#This Row],[Column5]]*0.001 -> 0.05 | Y9: =Table12[[#This Row],[Column5]]/5.95 -> 0.0084033613 | Z9: 14 | AA9: =Table4[[#This Row],[Column8]]*0.001 -> 0.085 | AB9: =AA9/5.95 -> 0.014285714
A10: 1.1666667 | B10: 18 | C10: 3.0252101 | D10: 7.6666667 | E10: 50 | F10: 8.4033613 | G10: 14.166667 | H10: 85 | I10: 14.285714 | T10: 1.1666667 | U10: =Table4[[#This Row],[Column2]]*0.001 -> 0.018 | V10: =U10/5.95 -> 0.0030252101 | W10: 7.6666667 | X10: =Table4[[#This Row],[Column5]]*0.001 -> 0.05 | Y10: =Table12[[#This Row],[Column5]]/5.95 -> 0.0084033613 | Z10: 14.166667 | AA10: =Table4[[#This Row],[Column8]]*0.001 -> 0.085 | AB10: =AA10/5.95 -> 0.014285714
A11: 1.3333333 | B11: 18 | C11: 3.0252101 | D11: 7.8333333 | E11: 50 | F11: 8.4033613 | G11: 14.333333 | H11: 85 | I11: 14.285714 | T11: 1.3333333 | U11: =Table4[[#This Row],[Column2]]*0.001 -> 0.018 | V11: =U11/5.95 -> 0.0030252101 | W11: 7.8333333 | X11: =Table4[[#This Row],[Column5]]*0.001 -> 0.05 | Y11: =Table12[[#This Row],[Column5]]/5.95 -> 0.0084033613 | Z11: 14.333333 | AA11: =Table4[[#This Row],[Column8]]*0.001 -> 0.085 | AB11: =AA11/5.95 -> 0.014285714
A12: 1.5 | B12: 20 | C12: 3.3613445 | D12: 8 | E12: 50 | F12: 8.4033613 | G12: 14.5 | H12: 85 | I12: 14.285714 | T12: 1.5 | U12: =Table4[[#This Row],[Column2]]*0.001 -> 0.02 | V12: =U12/5.95 -> 0.0033613445 | W12: 8 | X12: =Table4[[#This Row],[Column5]]*0.001 -> 0.05 | Y12: =Table12[[#This Row],[Column5]]/5.95 -> 0.0084033613 | Z12: 14.5 | AA12: =Table4[[#This Row],[Column8]]*0.001 -> 0.085 | AB12: =AA12/5.95 -> 0.014285714
A13: 1.6666667 | B13: 22 | C13: 3.697479 | D13: 8.1666667 | E13: 51 | F13: 8.5714286 | G13: 14.666667 | H13: 85 | I13: 14.285714 | T13: 1.6666667 | U13: =Table4[[#This Row],[Column2]]*0.001 -> 0.022 | V13: =U13/5.95 -> 0.003697479 | W13: 8.1666667 | X13: =Table4[[#This Row],[Column5]]*0.001 -> 0.051 | Y13: =Table12[[#This Row],[Column5]]/5.95 -> 0.0085714286 | Z13: 14.666667 | AA13: =Table4[[#This Row],[Column8]]*0.001 -> 0.085 | AB13: =AA13/5.95 -> 0.014285714
A14: 1.8333333 | B14: 22 | C14: 3.697479 | D14: 8.3333333 | E14: 56 | F14: 9.4117647 | G14: 14.833333 | H14: 85 | I14: 14.285714 | T14: 1.8333333 | U14: =Table4[[#This Row],[Column2]]*0.001 -> 0.022 | V14: =U14/5.95 -> 0.003697479 | W14: 8.3333333 | X14: =Table4[[#This Row],[Column5]]*0.001 -> 0.056 | Y14: =Table12[[#This Row],[Column5]]/5.95 -> 0.0094117647 | Z14: 14.833333 | AA14: =Table4[[#This Row],[Column8]]*0.001 -> 0.085 | AB14: =AA14/5.95 -> 0.014285714
... A63: 23 | B63: 149 | C63: 25.042017 | D63: 29.5 | E63: 208 | F63: 34.957983 | G63: 36 | H63: 338 | I63: 56.806723 | T63: 23 | U63: =Table4[[#This Row],[Column2]]*0.001 -> 0.149 | V63: =U63/5.95 -> 0.025042017 | W63: 29.5 | X63: =Table4[[#This Row],[Column5]]*0.001 -> 0.208 | Y63: =Table12[[#This Row],[Column5]]/5.95 -> 0.034957983 | Z63: 36 | AA63: =Table4[[#This Row],[Column8]]*0.001 -> 0.338 | AB63: =AA63/5.95 -> 0.056806723
A64: 23.166667 | B64: 152 | C64: 25.546218 | D64: 29.666667 | E64: 220 | F64: 36.97479 | T64: 23.166667 | U64: =Table4[[#This Row],[Column2]]*0.001 -> 0.152 | V64: =U64/5.95 -> 0.025546218 | W64: 29.666667 | X64: =Table4[[#This Row],[Column5]]*0.001 -> 0.22 | Y64: =Table12[[#This Row],[Column5]]/5.95 -> 0.03697479
A65: 23.333333 | B65: 152 | C65: 25.546218 | D65: 29.833333 | E65: 221 | F65: 37.142857 | T65: 23.333333 | U65: =Table4[[#This Row],[Column2]]*0.001 -> 0.152 | V65: =U65/5.95 -> 0.025546218 | W65: 29.833333 | X65: =Table4[[#This Row],[Column5]]*0.001 -> 0.221 | Y65: =Table12[[#This Row],[Column5]]/5.95 -> 0.037142857
A66: 23.5 | B66: 152 | C66: 25.546218 | D66: 30 | E66: 221 | F66: 37.142857 | T66: 23.5 | U66: =Table4[[#This Row],[Column2]]*0.001 -> 0.152 | V66: =U66/5.95 -> 0.025546218 | W66: 30 | X66: =Table4[[#This Row],[Column5]]*0.001 -> 0.221 | Y66: =Table12[[#This Row],[Column5]]/5.95 -> 0.037142857
A67: 23.666667 | B67: 152 | C67: 25.546218 | D67: 30.166667 | E67: 221 | F67: 37.142857 | T67: 23.666667 | U67: =Table4[[#This Row],[Column2]]*0.001 -> 0.152 | V67: =U67/5.95 -> 0.025546218 | W67: 30.166667 | X67: =Table4[[#This Row],[Column5]]*0.001 -> 0.221 | Y67: =Table12[[#This Row],[Column5]]/5.95 -> 0.037142857
A68: 23.833333 | B68: 156 | C68: 26.218487 | D68: 30.333333 | E68: 222 | F68: 37.310924 | T68: 23.833333 | U68: =Table4[[#This Row],[Column2]]*0.001 -> 0.156 | V68: =U68/5.95 -> 0.026218487 | W68: 30.333333 | X68: =Table4[[#This Row],[Column5]]*0.001 -> 0.222 | Y68: =Table12[[#This Row],[Column5]]/5.95 -> 0.037310924
A69: 24 | B69: 157 | C69: 26.386555 | D69: 30.5 | E69: 222 | F69: 37.310924 | T69: 24 | U69: =Table4[[#This Row],[Column2]]*0.001 -> 0.157 | V69: =U69/5.95 -> 0.026386555 | W69: 30.5 | X69: =Table4[[#This Row],[Column5]]*0.001 -> 0.222 | Y69: =Table12[[#This Row],[Column5]]/5.95 -> 0.037310924
A70: 24.166667 | B70: 158 | C70: 26.554622 | D70: 30.666667 | E70: 223 | F70: 37.478992 | T70: 24.166667 | U70: =Table4[[#This Row],[Column2]]*0.001 -> 0.158 | V70: =U70/5.95 -> 0.026554622 | W70: 30.666667 | X70: =Table4[[#This Row],[Column5]]*0.001 -> 0.223 | Y70: =Table12[[#This Row],[Column5]]/5.95 -> 0.037478992
A71: 24.333333 | B71: 161 | C71: 27.058824 | D71: 30.833333 | E71: 227 | F71: 38.151261 | T71: 24.333333 | U71: =Table4[[#This Row],[Column2]]*0.001 -> 0.161 | V71: =U71/5.95 -> 0.027058824 | W71: 30.833333 | X71: =Table4[[#This Row],[Column5]]*0.001 -> 0.227 | Y71: =Table12[[#This Row],[Column5]]/5.95 -> 0.038151261
A72: 24.5 | B72: 164 | C72: 27.563025 | D72: 31 | E72: 227 | F72: 38.151261 | T72: 24.5 | U72: =Table4[[#This Row],[Column2]]*0.001 -> 0.164 | V72: =U72/5.95 -> 0.027563025 | W72: 31 | X72: =Table4[[#This Row],[Column5]]*0.001 -> 0.227 | Y72: =Table12[[#This Row],[Column5]]/5.95 -> 0.038151261
A73: 24.666667 | B73: 165 | C73: 27.731092 | D73: 31.166667 | E73: 227 | F73: 38.151261 | T73: 24.666667 | U73: =Table4[[#This Row],[Column2]]*0.001 -> 0.165 | V73: =U73/5.95 -> 0.027731092 | W73: 31.166667 | X73: =Table4[[#This Row],[Column5]]*0.001 -> 0.227 | Y73: =Table12[[#This Row],[Column5]]/5.95 -> 0.038151261
A74: 24.833333 | B74: 167 | C74: 28.067227 | D74: 31.333333 | E74: 236 | F74: 39.663866 | T74: 24.833333 | U74: =Table4[[#This Row],[Column2]]*0.001 -> 0.167 | V74: =U74/5.95 -> 0.028067227 | W74: 31.333333 | X74: =Table4[[#This Row],[Column5]]*0.001 -> 0.236 | Y74: =Table12[[#This Row],[Column5]]/5.95 -> 0.039663866
A75: 25 | B75: 169 | C75: 28.403361 | D75: 31.5 | E75: 239 | F75: 40.168067 | T75: 25 | U75: =Table4[[#This Row],[Column2]]*0.001 -> 0.169 | V75: =U75/5.95 -> 0.028403361 | W75: 31.5 | X75: =Table4[[#This Row],[Column5]]*0.001 -> 0.239 | Y75: =Table12[[#This Row],[Column5]]/5.95 -> 0.040168067
... A79: 25.666667 | B79: 172 | C79: 28.907563 | D79: 32.166667 | E79: 251 | F79: 42.184874 | T79: 25.666667 | U79: =Table4[[#This Row],[Column2]]*0.001 -> 0.172 | V79: =U79/5.95 -> 0.028907563 | W79: 32.166667 | X79: =Table4[[#This Row],[Column5]]*0.001 -> 0.251 | Y79: =Table12[[#This Row],[Column5]]/5.95 -> 0.042184874
A80: 25.833333 | B80: 173 | C80: 29.07563 | D80: 32.333333 | E80: 252 | F80: 42.352941 | T80: 25.833333 | U80: 0.173 | V80: =U80/5.95 -> 0.02907563 | W80: 32.333333 | X80: =Table4[[#This Row],[Column5]]*0.001 -> 0.252 | Y80: =Table12[[#This Row],[Column5]]/5.95 -> 0.042352941

Sheet Test 2
A1: Test 2 | E1: a | F1: b | G1: c | H1: d | I1: e | J1: f
A2: Time (s) | B2: Elongation (in) | C2: strain | E2: Time (min) | F2: ΔL (in) | G2: Strain | H2: Time (min) | I2: ΔL (in) | J2: Strain
A3: 0 | B3: 65 | C3: =(65-B3)*0.001/5.95 -> 0 | E3: =A3/60 -> 0 | F3: =(65-B3)*0.001 -> 0 | G3: =(F3)/'Test 1'!$V$29 -> 0 | H3: =A29/60 -> 4.3333333 | I3: =(65-B29)*0.001 -> 0.193 | J3: =(I3)/'Test 1'!$V$29 -> 0.032436975 | L3: =A3/60 -> 0
A4: 10 | B4: 51 | C4: =(65-B4)*0.001/5.95 -> 0.0023529412 | E4: =A4/60 -> 0.16666667 | F4: =(65-B4)*0.001 -> 0.014 | G4: =(F4)/'Test 1'!$V$29 -> 0.0023529412 | H4: =A30/60 -> 4.5 | I4: =(65-B30)*0.001 -> 0.204 | J4: =(I4)/'Test 1'!$V$29 -> 0.034285714 | L4: =A4/60 -> 0.16666667
A5: =A4+10 -> 20 | B5: 49 | C5: =(65-B5)*0.001/5.95 -> 0.0026890756 | E5: =A5/60 -> 0.33333333 | F5: =(65-B5)*0.001 -> 0.016 | G5: =(F5)/'Test 1'!$V$29 -> 0.0026890756 | H5: =A31/60 -> 4.6666667 | I5: =(65-B31)*0.001 -> 0.213 | J5: =(I5)/'Test 1'!$V$29 -> 0.035798319 | L5: =A5/60 -> 0.33333333
A6: =A5+10 -> 30 | B6: 40 | C6: =(65-B6)*0.001/5.95 -> 0.0042016807 | E6: =A6/60 -> 0.5 | F6: =(65-B6)*0.001 -> 0.025 | G6: =(F6)/'Test 1'!$V$29 -> 0.0042016807 | H6: =A32/60 -> 4.8333333 | I6: =(65-B32)*0.001 -> 0.215 | J6: =(I6)/'Test 1'!$V$29 -> 0.036134454 | L6: =A6/60 -> 0.5
A7: =A6+10 -> 40 | B7: 25 | C7: =(65-B7)*0.001/5.95 -> 0.0067226891 | E7: =A7/60 -> 0.66666667 | F7: =(65-B7)*0.001 -> 0.04 | G7: =(F7)/'Test 1'!$V$29 -> 0.0067226891 | H7: =A33/60 -> 5 | I7: =(65-B33)*0.001 -> 0.223 | J7: =(I7)/'Test 1'!$V$29 -> 0.037478992 | L7: =A7/60 -> 0.66666667
A8: =A7+10 -> 50 | B8: 21 | C8: =(65-B8)*0.001/5.95 -> 0.007394958 | E8: =A8/60 -> 0.83333333 | F8: =(65-B8)*0.001 -> 0.044 | G8: =(F8)/'Test 1'!$V$29 -> 0.007394958 | H8: =A34/60 -> 5.1666667 | I8: =(65-B34)*0.001 -> 0.24 | J8: =(I8)/'Test 1'!$V$29 -> 0.040336134 | L8: =A8/60 -> 0.83333333
A9: =A8+10 -> 60 | B9: 15 | C9: =(65-B9)*0.001/5.95 -> 0.0084033613 | E9: =A9/60 -> 1 | F9: =(65-B9)*0.001 -> 0.05 | G9: =(F9)/'Test 1'!$V$29 -> 0.0084033613 | H9: =A35/60 -> 5.3333333 | I9: =(65-B35)*0.001 -> 0.255 | J9: =(I9)/'Test 1'!$V$29 -> 0.042857143 | L9: =A9/60 -> 1
A10: =A9+10 -> 70 | B10: 5 | C10: =(65-B10)*0.001/5.95 -> 0.010084034 | E10: =A10/60 -> 1.1666667 | F10: =(65-B10)*0.001 -> 0.06 | G10: =(F10)/'Test 1'!$V$29 -> 0.010084034 | H10: =A36/60 -> 5.5 | I10: =(65-B36)*0.001 -> 0.265 | J10: =(I10)/'Test 1'!$V$29 -> 0.044537815 | L10: =A10/60 -> 1.1666667
A11: =A10+10 -> 80 | B11: -8 | C11: =(65-B11)*0.001/5.95 -> 0.012268908 | E11: =A11/60 -> 1.3333333 | F11: =(65-B11)*0.001 -> 0.073 | G11: =(F11)/'Test 1'!$V$29 -> 0.012268908 | H11: =A37/60 -> 5.6666667 | I11: =(65-B37)*0.001 -> 0.269 | J11: =(I11)/'Test 1'!$V$29 -> 0.045210084 | L11: =A11/60 -> 1.3333333
A12: =A11+10 -> 90 | B12: -9 | C12: =(65-B12)*0.001/5.95 -> 0.012436975 | E12: =A12/60 -> 1.5 | F12: =(65-B12)*0.001 -> 0.074 | G12: =(F12)/'Test 1'!$V$29 -> 0.012436975 | H12: =A38/60 -> 5.8333333 | I12: =(65-B38)*0.001 -> 0.274 | J12: =(I12)/'Test 1'!$V$29 -> 0.04605042 | L12: =A12/60 -> 1.5
A13: =A12+10 -> 100 | B13: -13 | C13: =(65-B13)*0.001/5.95 -> 0.013109244 | E13: =A13/60 -> 1.6666667 | F13: =(65-B13)*0.001 -> 0.078 | G13: =(F13)/'Test 1'!$V$29 -> 0.013109244 | H13: =A39/60 -> 6 | I13: =(65-B39)*0.001 -> 0.294 | J13: =(I13)/'Test 1'!$V$29 -> 0.049411765 | L13: =A13/60 -> 1.6666667
A14: =A13+10 -> 110 | B14: -22 | C14: =(65-B14)*0.001/5.95 -> 0.014621849 | E14: =A14/60 -> 1.8333333 | F14: =(65-B14)*0.001 -> 0.087 | G14: =(F14)/'Test 1'!$V$29 -> 0.014621849 | H14: =A40/60 -> 6.1666667 | I14: =(65-B40)*0.001 -> 0.298 | J14: =(I14)/'Test 1'!$V$29 -> 0.050084034 | L14: =A14/60 -> 1.8333333
A15: =A14+10 -> 120 | B15: -30 | C15: =(65-B15)*0.001/5.95 -> 0.015966387 | E15: =A15/60 -> 2 | F15: =(65-B15)*0.001 -> 0.095 | G15: =(F15)/'Test 1'!$V$29 -> 0.015966387 | H15: =A41/60 -> 6.3333333 | I15: =(65-B41)*0.001 -> 0.313 | J15: =(I15)/'Test 1'!$V$29 -> 0.052605042 | L15: =A15/60 -> 2
A16: =A15+10 -> 130 | B16: -38 | C16: =(65-B16)*0.001/5.95 -> 0.017310924 | E16: =A16/60 -> 2.1666667 | F16: =(65-B16)*0.001 -> 0.103 | G16: =(F16)/'Test 1'!$V$29 -> 0.017310924 | H16: =A42/60 -> 6.5 | I16: =(65-B42)*0.001 -> 0.319 | J16: =(I16)/'Test 1'!$V$29 -> 0.053613445 | L16: =A16/60 -> 2.1666667
... A27: =A26+10 -> 240 | B27: -118 | C27: =(65-B27)*0.001/5.95 -> 0.030756303 | E27: =A27/60 -> 4 | F27: =(65-B27)*0.001 -> 0.183 | G27: =(F27)/'Test 1'!$V$29 -> 0.030756303 | H27: =A53/60 -> 8.3333333 | I27: =(65-B53)*0.001 -> 0.52 | J27: =(I27)/'Test 1'!$V$29 -> 0.087394958 | L27: =A27/60 -> 4
A28: =A27+10 -> 250 | B28: -121 | C28: =(65-B28)*0.001/5.95 -> 0.031260504 | E28: =A28/60 -> 4.1666667 | F28: =(65-B28)*0.001 -> 0.186 | G28: =(F28)/'Test 1'!$V$29 -> 0.031260504 | L28: =A28/60 -> 4.1666667
A29: =A28+10 -> 260 | B29: -128 | C29: =(65-B29)*0.001/5.95 -> 0.032436975 | L29: =A29/60 -> 4.3333333
A30: =A29+10 -> 270 | B30: -139 | C30: =(65-B30)*0.001/5.95 -> 0.034285714 | L30: =A30/60 -> 4.5
A31: =A30+10 -> 280 | B31: -148 | C31: =(65-B31)*0.001/5.95 -> 0.035798319 | L31: =A31/60 -> 4.6666667
A32: =A31+10 -> 290 | B32: -150 | C32: =(65-B32)*0.001/5.95 -> 0.036134454 | L32: =A32/60 -> 4.8333333
A33: =A32+10 -> 300 | B33: -158 | C33: =(65-B33)*0.001/5.95 -> 0.037478992 | L33: =A33/60 -> 5
A34: =A33+10 -> 310 | B34: -175 | C34: =(65-B34)*0.001/5.95 -> 0.040336134 | L34: =A34/60 -> 5.1666667
A35: =A34+10 -> 320 | B35: -190 | C35: =(65-B35)*0.001/5.95 -> 0.042857143 | L35: =A35/60 -> 5.3333333
A36: =A35+10 -> 330 | B36: -200 | C36: =(65-B36)*0.001/5.95 -> 0.044537815 | L36: =A36/60 -> 5.5
A37: =A36+10 -> 340 | B37: -204 | C37: =(65-B37)*0.001/5.95 -> 0.045210084 | L37: =A37/60 -> 5.6666667
A38: =A37+10 -> 350 | B38: -209 | C38: =(65-B38)*0.001/5.95 -> 0.04605042 | L38: =A38/60 -> 5.8333333
A39: =A38+10 -> 360 | B39: -229 | C39: =(65-B39)*0.001/5.95 -> 0.049411765 | L39: =A39/60 -> 6
A40: =A39+10 -> 370 | B40: -233 | C40: =(65-B40)*0.001/5.95 -> 0.050084034 | L40: =A40/60 -> 6.1666667
... A53: =A52+10 -> 500 | B53: -455 | C53: =(65-B53)*0.001/5.95 -> 0.087394958 | L53: =A53/60 -> 8.3333333

Sheet Test 3
A1: Test 3 | D1: Column1 | E1: Column2 | F1: Column3 | G1: Column4 | H1: Column5 | I1: Column6
A2: Time (s) | B2: Elongation (in) | C2: Strain | D2: Time (min) | E2: ΔL (in) | F2: Strain | G2: Time (min) | H2: ΔL (in) | I2: Strain | K2: Time (min) | L2: Strain
A3: 0 | B3: 60 | C3: =(60-B3)*0.001/5.95 -> 0 | D3: =A3/60 -> 0 | E3: =(60-B3)*0.001 -> 0 | F3: =(E3)/'Test 1'!$V$29 -> 0 | G3: =A32/60 -> 1.9333333 | H3: =(60-B32)*0.001 -> 0.165 | I3: =(H3)/'Test 1'!$V$29 -> 0.027731092 | K3: =A3/60 -> 0 | L3: 0
A4: =A3+4 -> 4 | B4: 40 | C4: =(60-B4)*0.001/5.95 -> 0.0033613445 | D4: =A4/60 -> 0.066666667 | E4: =(60-B4)*0.001 -> 0.02 | F4: =(E4)/'Test 1'!$V$29 -> 0.0033613445 | G4: =A33/60 -> 2 | H4: =(60-B33)*0.001 -> 0.173 | I4: =(H4)/'Test 1'!$V$29 -> 0.02907563 | K4: =A4/60 -> 0.066666667 | L4: 0.0033613445
A5: =A4+4 -> 8 | B5: 35 | C5: =(60-B5)*0.001/5.95 -> 0.0042016807 | D5: =A5/60 -> 0.13333333 | E5: =(60-B5)*0.001 -> 0.025 | F5: =(E5)/'Test 1'!$V$29 -> 0.0042016807 | G5: =A34/60 -> 2.0666667 | H5: =(60-B34)*0.001 -> 0.177 | I5: =(H5)/'Test 1'!$V$29 -> 0.029747899 | K5: =A5/60 -> 0.13333333 | L5: 0.0042016807
A6: =A5+4 -> 12 | B6: 27 | C6: =(60-B6)*0.001/5.95 -> 0.0055462185 | D6: =A6/60 -> 0.2 | E6: =(60-B6)*0.001 -> 0.033 | F6: =(E6)/'Test 1'!$V$29 -> 0.0055462185 | G6: =A35/60 -> 2.1333333 | H6: =(60-B35)*0.001 -> 0.182 | I6: =(H6)/'Test 1'!$V$29 -> 0.030588235 | K6: =A6/60 -> 0.2 | L6: 0.0055462185
A7: =A6+4 -> 16 | B7: 23 | C7: =(60-B7)*0.001/5.95 -> 0.0062184874 | D7: =A7/60 -> 0.26666667 | E7: =(60-B7)*0.001 -> 0.037 | F7: =(E7)/'Test 1'!$V$29 -> 0.0062184874 | G7: =A36/60 -> 2.2 | H7: =(60-B36)*0.001 -> 0.187 | I7: =(H7)/'Test 1'!$V$29 -> 0.031428571 | K7: =A7/60 -> 0.26666667 | L7: 0.0062184874
A8: =A7+4 -> 20 | B8: 20 | C8: =(60-B8)*0.001/5.95 -> 0.0067226891 | D8: =A8/60 -> 0.33333333 | E8: =(60-B8)*0.001 -> 0.04 | F8: =(E8)/'Test 1'!$V$29 -> 0.0067226891 | G8: =A37/60 -> 2.2666667 | H8: =(60-B37)*0.001 -> 0.195 | I8: =(H8)/'Test 1'!$V$29 -> 0.032773109 | K8: =A8/60 -> 0.33333333 | L8: 0.0067226891
A9: =A8+4 -> 24 | B9: 14 | C9: =(60-B9)*0.001/5.95 -> 0.0077310924 | D9: =A9/60 -> 0.4 | E9: =(60-B9)*0.001 -> 0.046 | F9: =(E9)/'Test 1'!$V$29 -> 0.0077310924 | G9: =A38/60 -> 2.3333333 | H9: =(60-B38)*0.001 -> 0.202 | I9: =(H9)/'Test 1'!$V$29 -> 0.03394958 | K9: =A9/60 -> 0.4 | L9: 0.0077310924
A10: =A9+4 -> 28 | B10: 8 | C10: =(60-B10)*0.001/5.95 -> 0.0087394958 | D10: =A10/60 -> 0.46666667 | E10: =(60-B10)*0.001 -> 0.052 | F10: =(E10)/'Test 1'!$V$29 -> 0.0087394958 | G10: =A39/60 -> 2.4 | H10: =(60-B39)*0.001 -> 0.208 | I10: =(H10)/'Test 1'!$V$29 -> 0.034957983 | K10: =A10/60 -> 0.46666667 | L10: 0.0087394958
A11: =A10+4 -> 32 | B11: 1 | C11: =(60-B11)*0.001/5.95 -> 0.0099159664 | D11: =A11/60 -> 0.53333333 | E11: =(60-B11)*0.001 -> 0.059 | F11: =(E11)/'Test 1'!$V$29 -> 0.0099159664 | G11: =A40/60 -> 2.4666667 | H11: =(60-B40)*0.001 -> 0.214 | I11: =(H11)/'Test 1'!$V$29 -> 0.035966387 | K11: =A11/60 -> 0.53333333 | L11: 0.0099159664
A12: =A11+4 -> 36 | B12: -4 | C12: =(60-B12)*0.001/5.95 -> 0.010756303 | D12: =A12/60 -> 0.6 | E12: =(60-B12)*0.001 -> 0.064 | F12: =(E12)/'Test 1'!$V$29 -> 0.010756303 | G12: =A41/60 -> 2.5333333 | H12: =(60-B41)*0.001 -> 0.22 | I12: =(H12)/'Test 1'!$V$29 -> 0.03697479 | K12: =A12/60 -> 0.6 | L12: 0.010756303
A13: =A12+4 -> 40 | B13: -10 | C13: =(60-B13)*0.001/5.95 -> 0.011764706 | D13: =A13/60 -> 0.66666667 | E13: =(60-B13)*0.001 -> 0.07 | F13: =(E13)/'Test 1'!$V$29 -> 0.011764706 | G13: =A42/60 -> 2.6 | H13: =(60-B42)*0.001 -> 0.225 | I13: =(H13)/'Test 1'!$V$29 -> 0.037815126 | K13: =A13/60 -> 0.66666667 | L13: 0.011764706
A14: =A13+4 -> 44 | B14: -11 | C14: =(60-B14)*0.001/5.95 -> 0.011932773 | D14: =A14/60 -> 0.73333333 | E14: =(60-B14)*0.001 -> 0.071 | F14: =(E14)/'Test 1'!$V$29 -> 0.011932773 | G14: =A43/60 -> 2.6666667 | H14: =(60-B43)*0.001 -> 0.233 | I14: =(H14)/'Test 1'!$V$29 -> 0.039159664 | K14: =A14/60 -> 0.73333333 | L14: 0.011932773
A15: =A14+4 -> 48 | B15: -14 | C15: =(60-B15)*0.001/5.95 -> 0.012436975 | D15: =A15/60 -> 0.8 | E15: =(60-B15)*0.001 -> 0.074 | F15: =(E15)/'Test 1'!$V$29 -> 0.012436975 | G15: =A44/60 -> 2.7333333 | H15: =(60-B44)*0.001 -> 0.239 | I15: =(H15)/'Test 1'!$V$29 -> 0.040168067 | K15: =A15/60 -> 0.8 | L15: 0.012436975
... A30: =A29+4 -> 108 | B30: -95 | C30: =(60-B30)*0.001/5.95 -> 0.02605042 | D30: =A30/60 -> 1.8 | E30: =(60-B30)*0.001 -> 0.155 | F30: =(E30)/'Test 1'!$V$29 -> 0.02605042 | G30: =A59/60 -> 3.7333333 | H30: =(60-B59)*0.001 -> 0.353 | I30: =(H30)/'Test 1'!$V$29 -> 0.059327731 | K30: =A30/60 -> 1.8 | L30: 0.02605042
A31: =A30+4 -> 112 | B31: -100 | C31: =(60-B31)*0.001/5.95 -> 0.026890756 | D31: =A31/60 -> 1.8666667 | E31: =(60-B31)*0.001 -> 0.16 | F31: =(E31)/'Test 1'!$V$29 -> 0.026890756 | K31: =A31/60 -> 1.8666667 | L31: 0.026890756
A32: =A31+4 -> 116 | B32: -105 | C32: =(60-B32)*0.001/5.95 -> 0.027731092 | K32: =A32/60 -> 1.9333333 | L32: 0.027731092
A33: =A32+4 -> 120 | B33: -113 | C33: =(60-B33)*0.001/5.95 -> 0.02907563 | K33: =A33/60 -> 2 | L33: 0.02907563
A34: =A33+4 -> 124 | B34: -117 | C34: =(60-B34)*0.001/5.95 -> 0.029747899 | K34: =A34/60 -> 2.0666667 | L34: 0.029747899
A35: =A34+4 -> 128 | B35: -122 | C35: =(60-B35)*0.001/5.95 -> 0.030588235 | K35: =A35/60 -> 2.1333333 | L35: 0.030588235
A36: =A35+4 -> 132 | B36: -127 | C36: =(60-B36)*0.001/5.95 -> 0.031428571 | K36: =A36/60 -> 2.2 | L36: 0.031428571
A37: =A36+4 -> 136 | B37: -135 | C37: =(60-B37)*0.001/5.95 -> 0.032773109 | K37: =A37/60 -> 2.2666667 | L37: 0.032773109
A38: =A37+4 -> 140 | B38: -142 | C38: =(60-B38)*0.001/5.95 -> 0.03394958 | K38: =A38/60 -> 2.3333333 | L38: 0.03394958
A39: =A38+4 -> 144 | B39: -148 | C39: =(60-B39)*0.001/5.95 -> 0.034957983 | K39: =A39/60 -> 2.4 | L39: 0.034957983
A40: =A39+4 -> 148 | B40: -154 | C40: =(60-B40)*0.001/5.95 -> 0.035966387 | K40: =A40/60 -> 2.4666667 | L40: 0.035966387
A41: =A40+4 -> 152 | B41: -160 | C41: =(60-B41)*0.001/5.95 -> 0.03697479 | K41: =A41/60 -> 2.5333333 | L41: 0.03697479
A42: =A41+4 -> 156 | B42: -165 | C42: =(60-B42)*0.001/5.95 -> 0.037815126 | K42: =A42/60 -> 2.6 | L42: 0.037815126
A43: =A42+4 -> 160 | B43: -173 | C43: =(60-B43)*0.001/5.95 -> 0.039159664 | K43: =A43/60 -> 2.6666667 | L43: 0.039159664
... A59: =A58+4 -> 224 | B59: -293 | C59: =(60-B59)*0.001/5.95 -> 0.059327731 | K59: =A59/60 -> 3.7333333 | L59: 0.059327731

Sheet Test 4
A1: Test 4
A2: Time (s) | B2: Elongation (in) | C2: Strain, ε | D2: Column1 | E2: Column2 | F2: Column3 | G2: Column4 | H2: Column5 | I2: Column6 | J2: Column7 | K2: Column8 | L2: Column9
A3: 0 | B3: 50 | C3: =(50-B3)*0.001/5.95 -> 0 | D3: Time (min) | E3: ΔL (in) | F3: Strain | G3: Time (min) | H3: ΔL (in) | I3: Strain | J3: Time (min) | K3: ΔL (in) | L3: Strain | N3: =A3/60 -> 0
A4: =A3+4 -> 4 | B4: 40 | C4: =(50-B4)*0.001/5.95 -> 0.0016806723 | D4: =A3/60 -> 0 | E4: =(50-B3)*0.001 -> 0 | F4: =Table9[[#This Row],[Column2]]/5.95 -> 0 | G4: =A41/60 -> 2.5333333 | H4: =(50-B41)*0.001 -> 0.126 | I4: =((50-B41)/5.95)*0.001 -> 0.021176471 | J4: =A79/60 -> 5.0666667 | K4: =(50-B79)*0.001 -> 0.305 | L4: =Table9[[#This Row],[Column8]]/5.95 -> 0.051260504 | N4: =A4/60 -> 0.066666667
A5: =A4+4 -> 8 | B5: 35 | C5: =(50-B5)*0.001/5.95 -> 0.0025210084 | D5: =A4/60 -> 0.066666667 | E5: =(50-B4)*0.001 -> 0.01 | F5: =Table9[[#This Row],[Column2]]/5.95 -> 0.0016806723 | G5: =A42/60 -> 2.6 | H5: =(50-B42)*0.001 -> 0.129 | I5: =((50-B42)/5.95)*0.001 -> 0.021680672 | J5: =A80/60 -> 5.1333333 | K5: =(50-B80)*0.001 -> 0.313 | L5: =Table9[[#This Row],[Column8]]/5.95 -> 0.052605042 | N5: =A5/60 -> 0.13333333
A6: =A5+4 -> 12 | B6: 34 | C6: =(50-B6)*0.001/5.95 -> 0.0026890756 | D6: =A5/60 -> 0.13333333 | E6: =(50-B5)*0.001 -> 0.015 | F6: =Table9[[#This Row],[Column2]]/5.95 -> 0.0025210084 | G6: =A43/60 -> 2.6666667 | H6: =(50-B43)*0.001 -> 0.13 | I6: =((50-B43)/5.95)*0.001 -> 0.021848739 | J6: =A81/60 -> 5.2 | K6: =(50-B81)*0.001 -> 0.32 | L6: =Table9[[#This Row],[Column8]]/5.95 -> 0.053781513 | N6: =A6/60 -> 0.2
A7: =A6+4 -> 16 | B7: 32 | C7: =(50-B7)*0.001/5.95 -> 0.0030252101 | D7: =A6/60 -> 0.2 | E7: =(50-B6)*0.001 -> 0.016 | F7: =Table9[[#This Row],[Column2]]/5.95 -> 0.0026890756 | G7: =A44/60 -> 2.7333333 | H7: =(50-B44)*0.001 -> 0.133 | I7: =((50-B44)/5.95)*0.001 -> 0.022352941 | J7: =A82/60 -> 5.2666667 | K7: =(50-B82)*0.001 -> 0.331 | L7: =Table9[[#This Row],[Column8]]/5.95 -> 0.055630252 | N7: =A7/60 -> 0.26666667
A8: =A7+4 -> 20 | B8: 31 | C8: =(50-B8)*0.001/5.95 -> 0.0031932773 | D8: =A7/60 -> 0.26666667 | E8: =(50-B7)*0.001 -> 0.018 | F8: =Table9[[#This Row],[Column2]]/5.95 -> 0.0030252101 | G8: =A45/60 -> 2.8 | H8: =(50-B45)*0.001 -> 0.139 | I8: =((50-B45)/5.95)*0.001 -> 0.023361345 | J8: =A83/60 -> 5.3333333 | K8: =(50-B83)*0.001 -> 0.342 | L8: =Table9[[#This Row],[Column8]]/5.95 -> 0.057478992 | N8: =A8/60 -> 0.33333333
A9: =A8+4 -> 24 | B9: 31 | C9: =(50-B9)*0.001/5.95 -> 0.0031932773 | D9: =A8/60 -> 0.33333333 | E9: =(50-B8)*0.001 -> 0.019 | F9: =Table9[[#This Row],[Column2]]/5.95 -> 0.0031932773 | G9: =A46/60 -> 2.8666667 | H9: =(50-B46)*0.001 -> 0.139 | I9: =((50-B46)/5.95)*0.001 -> 0.023361345 | J9: =A84/60 -> 5.4 | K9: =(50-B84)*0.001 -> 0.352 | L9: =Table9[[#This Row],[Column8]]/5.95 -> 0.059159664 | N9: =A9/60 -> 0.4
A10: =A9+4 -> 28 | B10: 27 | C10: =(50-B10)*0.001/5.95 -> 0.0038655462 | D10: =A9/60 -> 0.4 | E10: =(50-B9)*0.001 -> 0.019 | F10: =Table9[[#This Row],[Column2]]/5.95 -> 0.0031932773 | G10: =A47/60 -> 2.9333333 | H10: =(50-B47)*0.001 -> 0.142 | I10: =((50-B47)/5.95)*0.001 -> 0.023865546 | J10: =A85/60 -> 5.4666667 | K10: =(50-B85)*0.001 -> 0.362 | L10: =Table9[[#This Row],[Column8]]/5.95 -> 0.060840336 | N10: =A10/60 -> 0.46666667
A11: =A10+4 -> 32 | B11: 20 | C11: =(50-B11)*0.001/5.95 -> 0.0050420168 | D11: =A10/60 -> 0.46666667 | E11: =(50-B10)*0.001 -> 0.023 | F11: =Table9[[#This Row],[Column2]]/5.95 -> 0.0038655462 | G11: =A48/60 -> 3 | H11: =(50-B48)*0.001 -> 0.144 | I11: =((50-B48)/5.95)*0.001 -> 0.024201681 | J11: =A86/60 -> 5.5333333 | K11: =(50-B86)*0.001 -> 0.374 | L11: =Table9[[#This Row],[Column8]]/5.95 -> 0.062857143 | N11: =A11/60 -> 0.53333333
A12: =A11+4 -> 36 | B12: 18 | C12: =(50-B12)*0.001/5.95 -> 0.0053781513 | D12: =A11/60 -> 0.53333333 | E12: =(50-B11)*0.001 -> 0.03 | F12: =Table9[[#This Row],[Column2]]/5.95 -> 0.0050420168 | G12: =A49/60 -> 3.0666667 | H12: =(50-B49)*0.001 -> 0.148 | I12: =((50-B49)/5.95)*0.001 -> 0.02487395 | J12: =A87/60 -> 5.6 | K12: =(50-B87)*0.001 -> 0.383 | L12: =Table9[[#This Row],[Column8]]/5.95 -> 0.064369748 | N12: =A12/60 -> 0.6
A13: =A12+4 -> 40 | B13: 14 | C13: =(50-B13)*0.001/5.95 -> 0.0060504202 | D13: =A12/60 -> 0.6 | E13: =(50-B12)*0.001 -> 0.032 | F13: =Table9[[#This Row],[Column2]]/5.95 -> 0.0053781513 | G13: =A50/60 -> 3.1333333 | H13: =(50-B50)*0.001 -> 0.152 | I13: =((50-B50)/5.95)*0.001 -> 0.025546218 | J13: =A88/60 -> 5.6666667 | K13: =(50-B88)*0.001 -> 0.412 | L13: =Table9[[#This Row],[Column8]]/5.95 -> 0.069243697 | N13: =A13/60 -> 0.66666667
A14: =A13+4 -> 44 | B14: 9 | C14: =(50-B14)*0.001/5.95 -> 0.0068907563 | D14: =A13/60 -> 0.66666667 | E14: =(50-B13)*0.001 -> 0.036 | F14: =Table9[[#This Row],[Column2]]/5.95 -> 0.0060504202 | G14: =A51/60 -> 3.2 | H14: =(50-B51)*0.001 -> 0.154 | I14: =((50-B51)/5.95)*0.001 -> 0.025882353 | N14: =A14/60 -> 0.73333333
A15: =A14+4 -> 48 | B15: 4 | C15: =(50-B15)*0.001/5.95 -> 0.0077310924 | D15: =A14/60 -> 0.73333333 | E15: =(50-B14)*0.001 -> 0.041 | F15: =Table9[[#This Row],[Column2]]/5.95 -> 0.0068907563 | G15: =A52/60 -> 3.2666667 | H15: =(50-B52)*0.001 -> 0.16 | I15: =((50-B52)/5.95)*0.001 -> 0.026890756 | N15: =A15/60 -> 0.8
A16: =A15+4 -> 52 | B16: 2 | C16: =(50-B16)*0.001/5.95 -> 0.0080672269 | D16: =A15/60 -> 0.8 | E16: =(50-B15)*0.001 -> 0.046 | F16: =Table9[[#This Row],[Column2]]/5.95 -> 0.0077310924 | G16: =A53/60 -> 3.3333333 | H16: =(50-B53)*0.001 -> 0.17 | I16: =((50-B53)/5.95)*0.001 -> 0.028571429 | N16: =A16/60 -> 0.86666667
A17: =A16+4 -> 56 | B17: 1 | C17: =(50-B17)*0.001/5.95 -> 0.0082352941 | D17: =A16/60 -> 0.86666667 | E17: =(50-B16)*0.001 -> 0.048 | F17: =Table9[[#This Row],[Column2]]/5.95 -> 0.0080672269 | G17: =A54/60 -> 3.4 | H17: =(50-B54)*0.001 -> 0.172 | I17: =((50-B54)/5.95)*0.001 -> 0.028907563 | N17: =A17/60 -> 0.93333333
A18: =A17+4 -> 60 | B18: 1 | C18: =(50-B18)*0.001/5.95 -> 0.0082352941 | D18: =A17/60 -> 0.93333333 | E18: =(50-B17)*0.001 -> 0.049 | F18: =Table9[[#This Row],[Column2]]/5.95 -> 0.0082352941 | G18: =A55/60 -> 3.4666667 | H18: =(50-B55)*0.001 -> 0.174 | I18: =((50-B55)/5.95)*0.001 -> 0.029243697 | N18: =A18/60 -> 1
A19: =A18+4 -> 64 | B19: 1 | C19: =(50-B19)*0.001/5.95 -> 0.0082352941 | D19: =A18/60 -> 1 | E19: =(50-B18)*0.001 -> 0.049 | F19: =Table9[[#This Row],[Column2]]/5.95 -> 0.0082352941 | G19: =A56/60 -> 3.5333333 | H19: =(50-B56)*0.001 -> 0.179 | I19: =((50-B56)/5.95)*0.001 -> 0.030084034 | N19: =A19/60 -> 1.0666667
A20: =A19+4 -> 68 | B20: -3 | C20: =(50-B20)*0.001/5.95 -> 0.008907563 | D20: =A19/60 -> 1.0666667 | E20: =(50-B19)*0.001 -> 0.049 | F20: =Table9[[#This Row],[Column2]]/5.95 -> 0.0082352941 | G20: =A57/60 -> 3.6 | H20: =(50-B57)*0.001 -> 0.186 | I20: =((50-B57)/5.95)*0.001 -> 0.031260504 | N20: =A20/60 -> 1.1333333
A21: =A20+4 -> 72 | B21: -7 | C21: =(50-B21)*0.001/5.95 -> 0.0095798319 | D21: =A20/60 -> 1.1333333 | E21: =(50-B20)*0.001 -> 0.053 | F21: =Table9[[#This Row],[Column2]]/5.95 -> 0.008907563 | G21: =A58/60 -> 3.6666667 | H21: =(50-B58)*0.001 -> 0.189 | I21: =((50-B58)/5.95)*0.001 -> 0.031764706 | N21: =A21/60 -> 1.2
A22: =A21+4 -> 76 | B22: -7 | C22: =(50-B22)*0.001/5.95 -> 0.0095798319 | D22: =A21/60 -> 1.2 | E22: =(50-B21)*0.001 -> 0.057 | F22: =Table9[[#This Row],[Column2]]/5.95 -> 0.0095798319 | G22: =A59/60 -> 3.7333333 | H22: =(50-B59)*0.001 -> 0.191 | I22: =((50-B59)/5.95)*0.001 -> 0.03210084 | N22: =A22/60 -> 1.2666667
A23: =A22+4 -> 80 | B23: -7 | C23: =(50-B23)*0.001/5.95 -> 0.0095798319 | D23: =A22/60 -> 1.2666667 | E23: =(50-B22)*0.001 -> 0.057 | F23: =Table9[[#This Row],[Column2]]/5.95 -> 0.0095798319 | G23: =A60/60 -> 3.8 | H23: =(50-B60)*0.001 -> 0.194 | I23: =((50-B60)/5.95)*0.001 -> 0.032605042 | N23: =A23/60 -> 1.3333333
A24: =A23+4 -> 84 | B24: -13 | C24: =(50-B24)*0.001/5.95 -> 0.010588235 | D24: =A23/60 -> 1.3333333 | E24: =(50-B23)*0.001 -> 0.057 | F24: =Table9[[#This Row],[Column2]]/5.95 -> 0.0095798319 | G24: =A61/60 -> 3.8666667 | H24: =(50-B61)*0.001 -> 0.197 | I24: =((50-B61)/5.95)*0.001 -> 0.033109244 | N24: =A24/60 -> 1.4
A25: =A24+4 -> 88 | B25: -18 | C25: =(50-B25)*0.001/5.95 -> 0.011428571 | D25: =A24/60 -> 1.4 | E25: =(50-B24)*0.001 -> 0.063 | F25: =Table9[[#This Row],[Column2]]/5.95 -> 0.010588235 | G25: =A62/60 -> 3.9333333 | H25: =(50-B62)*0.001 -> 0.204 | I25: =((50-B62)/5.95)*0.001 -> 0.034285714 | N25: =A25/60 -> 1.4666667
... A41: =A40+4 -> 152 | B41: -76 | C41: =(50-B41)*0.001/5.95 -> 0.021176471 | D41: =A40/60 -> 2.4666667 | E41: =(50-B40)*0.001 -> 0.119 | F41: =Table9[[#This Row],[Column2]]/5.95 -> 0.02 | G41: =A78/60 -> 5 | H41: =(50-B78)*0.001 -> 0.297 | I41: =((50-B78)/5.95)*0.001 -> 0.049915966 | N41: =A41/60 -> 2.5333333
A42: =A41+4 -> 156 | B42: -79 | C42: =(50-B42)*0.001/5.95 -> 0.021680672 | N42: =A42/60 -> 2.6
A43: =A42+4 -> 160 | B43: -80 | C43: =(50-B43)*0.001/5.95 -> 0.021848739 | N43: =A43/60 -> 2.6666667
A44: =A43+4 -> 164 | B44: -83 | C44: =(50-B44)*0.001/5.95 -> 0.022352941 | N44: =A44/60 -> 2.7333333
A45: =A44+4 -> 168 | B45: -89 | C45: =(50-B45)*0.001/5.95 -> 0.023361345 | N45: =A45/60 -> 2.8
A46: =A45+4 -> 172 | B46: -89 | C46: =(50-B46)*0.001/5.95 -> 0.023361345 | N46: =A46/60 -> 2.8666667
A47: =A46+4 -> 176 | B47: -92 | C47: =(50-B47)*0.001/5.95 -> 0.023865546 | N47: =A47/60 -> 2.9333333
A48: =A47+4 -> 180 | B48: -94 | C48: =(50-B48)*0.001/5.95 -> 0.024201681 | N48: =A48/60 -> 3
A49: =A48+4 -> 184 | B49: -98 | C49: =(50-B49)*0.001/5.95 -> 0.02487395 | N49: =A49/60 -> 3.0666667
A50: =A49+4 -> 188 | B50: -102 | C50: =(50-B50)*0.001/5.95 -> 0.025546218 | N50: =A50/60 -> 3.1333333
A51: =A50+4 -> 192 | B51: -104 | C51: =(50-B51)*0.001/5.95 -> 0.025882353 | N51: =A51/60 -> 3.2
A52: =A51+4 -> 196 | B52: -110 | C52: =(50-B52)*0.001/5.95 -> 0.026890756 | N52: =A52/60 -> 3.2666667
A53: =A52+4 -> 200 | B53: -120 | C53: =(50-B53)*0.001/5.95 -> 0.028571429 | N53: =A53/60 -> 3.3333333
... A88: =A87+4 -> 340 | B88: -362 | C88: =(50-B88)*0.001/5.95 -> 0.069243697 | N88: =A88/60 -> 5.6666667

Sheet Test 5
A1: Test 5
A2: Time (s) | B2: Elongation (in) | C2: Strain | D2: Column1 | E2: Column2 | F2: Column3 | G2: Column4 | H2: Column5 | I2: Column6
A3: 0 | B3: 60 | C3: =(60-B3)*0.001/5.95 -> 0 | D3: Time (min) | E3: ΔL (in) | F3: Strain | G3: Time (min) | H3: ΔL (in) | I3: Strain | K3: =A3/60 -> 0
A4: =A3+4 -> 4 | B4: 48 | C4: =(60-B4)*0.001/5.95 -> 0.0020168067 | D4: =A3/60 -> 0 | E4: =(60-B3)*0.001 -> 0 | F4: =E4/5.95 -> 0 | G4: =A39/60 -> 2.4 | H4: =(60-B39)*0.001 -> 0.136 | I4: =H4/5.95 -> 0.022857143 | K4: =A4/60 -> 0.066666667
A5: =A4+4 -> 8 | B5: 45 | C5: =(60-B5)*0.001/5.95 -> 0.0025210084 | D5: =A4/60 -> 0.066666667 | E5: =(60-B4)*0.001 -> 0.012 | F5: =E5/5.95 -> 0.0020168067 | G5: =A40/60 -> 2.4666667 | H5: =(60-B40)*0.001 -> 0.14 | I5: =H5/5.95 -> 0.023529412 | K5: =A5/60 -> 0.13333333
A6: =A5+4 -> 12 | B6: 42 | C6: =(60-B6)*0.001/5.95 -> 0.0030252101 | D6: =A5/60 -> 0.13333333 | E6: =(60-B5)*0.001 -> 0.015 | F6: =E6/5.95 -> 0.0025210084 | G6: =A41/60 -> 2.5333333 | H6: =(60-B41)*0.001 -> 0.145 | I6: =H6/5.95 -> 0.024369748 | K6: =A6/60 -> 0.2
A7: =A6+4 -> 16 | B7: 38 | C7: =(60-B7)*0.001/5.95 -> 0.003697479 | D7: =A6/60 -> 0.2 | E7: =(60-B6)*0.001 -> 0.018 | F7: =E7/5.95 -> 0.0030252101 | G7: =A42/60 -> 2.6 | H7: =(60-B42)*0.001 -> 0.147 | I7: =H7/5.95 -> 0.024705882 | K7: =A7/60 -> 0.26666667
A8: =A7+4 -> 20 | B8: 35 | C8: =(60-B8)*0.001/5.95 -> 0.0042016807 | D8: =A7/60 -> 0.26666667 | E8: =(60-B7)*0.001 -> 0.022 | F8: =E8/5.95 -> 0.003697479 | G8: =A43/60 -> 2.6666667 | H8: =(60-B43)*0.001 -> 0.144 | I8: =H8/5.95 -> 0.024201681 | K8: =A8/60 -> 0.33333333
A9: =A8+4 -> 24 | B9: 34 | C9: =(60-B9)*0.001/5.95 -> 0.0043697479 | D9: =A8/60 -> 0.33333333 | E9: =(60-B8)*0.001 -> 0.025 | F9: =E9/5.95 -> 0.0042016807 | G9: =A44/60 -> 2.7333333 | H9: =(60-B44)*0.001 -> 0.157 | I9: =H9/5.95 -> 0.026386555 | K9: =A9/60 -> 0.4
A10: =A9+4 -> 28 | B10: 30 | C10: =(60-B10)*0.001/5.95 -> 0.0050420168 | D10: =A9/60 -> 0.4 | E10: =(60-B9)*0.001 -> 0.026 | F10: =E10/5.95 -> 0.0043697479 | G10: =A45/60 -> 2.8 | H10: =(60-B45)*0.001 -> 0.163 | I10: =H10/5.95 -> 0.027394958 | K10: =A10/60 -> 0.46666667
A11: =A10+4 -> 32 | B11: 28 | C11: =(60-B11)*0.001/5.95 -> 0.0053781513 | D11: =A10/60 -> 0.46666667 | E11: =(60-B10)*0.001 -> 0.03 | F11: =E11/5.95 -> 0.0050420168 | G11: =A46/60 -> 2.8666667 | H11: =(60-B46)*0.001 -> 0.166 | I11: =H11/5.95 -> 0.02789916 | K11: =A11/60 -> 0.53333333
A12: =A11+4 -> 36 | B12: 24 | C12: =(60-B12)*0.001/5.95 -> 0.0060504202 | D12: =A11/60 -> 0.53333333 | E12: =(60-B11)*0.001 -> 0.032 | F12: =E12/5.95 -> 0.0053781513 | G12: =A47/60 -> 2.9333333 | H12: =(60-B47)*0.001 -> 0.17 | I12: =H12/5.95 -> 0.028571429 | K12: =A12/60 -> 0.6
A13: =A12+4 -> 40 | B13: 19 | C13: =(60-B13)*0.001/5.95 -> 0.0068907563 | D13: =A12/60 -> 0.6 | E13: =(60-B12)*0.001 -> 0.036 | F13: =E13/5.95 -> 0.0060504202 | G13: =A48/60 -> 3 | H13: =(60-B48)*0.001 -> 0.175 | I13: =H13/5.95 -> 0.029411765 | K13: =A13/60 -> 0.66666667
A14: =A13+4 -> 44 | B14: 18 | C14: =(60-B14)*0.001/5.95 -> 0.0070588235 | D14: =A13/60 -> 0.66666667 | E14: =(60-B13)*0.001 -> 0.041 | F14: =E14/5.95 -> 0.0068907563 | G14: =A49/60 -> 3.0666667 | H14: =(60-B49)*0.001 -> 0.18 | I14: =H14/5.95 -> 0.030252101 | K14: =A14/60 -> 0.73333333
A15: =A14+4 -> 48 | B15: 14 | C15: =(60-B15)*0.001/5.95 -> 0.0077310924 | D15: =A14/60 -> 0.73333333 | E15: =(60-B14)*0.001 -> 0.042 | F15: =E15/5.95 -> 0.0070588235 | G15: =A50/60 -> 3.1333333 | H15: =(60-B50)*0.001 -> 0.186 | I15: =H15/5.95 -> 0.031260504 | K15: =A15/60 -> 0.8
... A38: =A37+4 -> 140 | B38: -73 | C38: =(60-B38)*0.001/5.95 -> 0.022352941 | D38: =A37/60 -> 2.2666667 | E38: =(60-B37)*0.001 -> 0.129 | F38: =E38/5.95 -> 0.021680672 | G38: =A73/60 -> 4.6666667 | H38: =(60-B73)*0.001 -> 0.378 | I38: =H38/5.95 -> 0.063529412 | K38: =A38/60 -> 2.3333333
A39: =A38+4 -> 144 | B39: -76 | C39: =(60-B39)*0.001/5.95 -> 0.022857143 | D39: =A38/60 -> 2.3333333 | E39: =60-B38 -> 133 | F39: =E39/5.95 -> 22.352941 | K39: =A39/60 -> 2.4
A40: =A39+4 -> 148 | B40: -80 | C40: =(60-B40)*0.001/5.95 -> 0.023529412 | K40: =A40/60 -> 2.4666667
A41: =A40+4 -> 152 | B41: -85 | C41: =(60-B41)*0.001/5.95 -> 0.024369748 | K41: =A41/60 -> 2.5333333
A42: =A41+4 -> 156 | B42: -87 | C42: =(60-B42)*0.001/5.95 -> 0.024705882 | K42: =A42/60 -> 2.6
A43: =A42+4 -> 160 | B43: -84 | C43: =(60-B43)*0.001/5.95 -> 0.024201681 | K43: =A43/60 -> 2.6666667
A44: =A43+4 -> 164 | B44: -97 | C44: =(60-B44)*0.001/5.95 -> 0.026386555 | K44: =A44/60 -> 2.7333333
A45: =A44+4 -> 168 | B45: -103 | C45: =(60-B45)*0.001/5.95 -> 0.027394958 | K45: =A45/60 -> 2.8
A46: =A45+4 -> 172 | B46: -106 | C46: =(60-B46)*0.001/5.95 -> 0.02789916 | K46: =A46/60 -> 2.8666667
A47: =A46+4 -> 176 | B47: -110 | C47: =(60-B47)*0.001/5.95 -> 0.028571429 | K47: =A47/60 -> 2.9333333
A48: =A47+4 -> 180 | B48: -115 | C48: =(60-B48)*0.001/5.95 -> 0.029411765 | K48: =A48/60 -> 3
A49: =A48+4 -> 184 | B49: -120 | C49: =(60-B49)*0.001/5.95 -> 0.030252101 | K49: =A49/60 -> 3.0666667
A50: =A49+4 -> 188 | B50: -126 | C50: =(60-B50)*0.001/5.95 -> 0.031260504 | K50: =A50/60 -> 3.1333333
A51: =A50+4 -> 192 | B51: -131 | C51: =(60-B51)*0.001/5.95 -> 0.03210084 | K51: =A51/60 -> 3.2
... A73: =A72+4 -> 280 | B73: -318 | C73: =(60-B73)*0.001/5.95 -> 0.063529412 | K73: =A73/60 -> 4.6666667

Sheet Sheet2
A1: Trials | B1: Stress (MPa) | C1: Temperature (°C) | D1: εss | E1: Tf (min) | G1: Temperature (K) | H1: 1/T (K-1) | I1: Ln(ε)
A2: 1 | B2: 125.52676 | C2: 925 | D2: 0.0014 | E2: 36 | G2: =C2+273.15 -> 1198.15 | H2: =1/G2 -> 0.00083462004 | I2: =LN(D2) -> -6.571283 | M2: =LN(0.0005) -> -7.6009025
A3: 2 | B3: 125.52676 | C3: 950 | D3: 0.0076 | E3: 8.333 | G3: =C3+273.15 -> 1223.15 | H3: =1/G3 -> 0.00081756121 | I3: =LN(D3) -> -4.879607 | M3: =LN(0.0008) -> -7.1308988
A4: 3 | B4: 125.52676 | C4: 975 | D4: 0.0153 | E4: 3.73 | G4: =C4+273.15 -> 1248.15 | H4: =1/G4 -> 0.00080118575 | I4: =LN(D4) -> -4.1799025
A5: 4 | B5: 108.80941 | C5: 975 | D5: 0.0078 | E5: 5 | G5: =C5+273.15 -> 1248.15 | H5: =1/G5 -> 0.00080118575 | I5: =LN(D5) -> -4.8536315
A6: 5 | B6: 100.51359 | C6: 975 | D6: 0.0098 | E6: 4.667 | G6: =C6+273.15 -> 1248.15 | H6: =1/G6 -> 0.00080118575 | I6: =LN(D6) -> -4.6253729
B10: log(Stress) | C10: log(Strain)
B11: =LOG(B4) -> 2.0987363 | C11: =LOG(D2) -> -2.853872
B12: =LOG(B5) -> 2.0366665 | C12: =LOG(D3) -> -2.1191864
B13: =LOG(B6) -> 2.0022248 | C13: =LOG(D4) -> -1.8153086
B24: rupture time | C24: log(stress)
B25: =E4 -> 3.73 | C25: =B11 -> 2.0987363
B26: =E5 -> 5 | C26: =B12 -> 2.0366665
B27: =E6 -> 4.667 | C27: =B13 -> 2.0022248

Sheet Sheet1
A1: Column1 | B1: Column2 | C1: Column3 | D1: Column4 | E1: Column5
A2: Test | B2: Stress (MPa) | C2: Temperature (°C) | D2: Tf (min) | E2: L-M Parameter | G2: L-M Parameter | H2: log(σ)
A3: 1 | B3: 125.52676 | C3: 925 | D3: 36 | E3: =(C3+273.15)*(20+LOG(D3/60)) -> 23697.192 | G3: =Table2[[#This Row],[Column5]] -> 23697.192 | H3: =LOG(Table2[[#This Row],[Column2]]) -> 2.0987363 | M3: =G7 -> 23578.66 | N3: 2.0022248
A4: 2 | B4: 125.52676 | C4: 950 | D4: 8.333 | E4: =(C4+273.15)*(20+LOG(D4/60)) -> 23414.333 | G4: =Table2[[#This Row],[Column5]] -> 23414.333 | H4: =LOG(Table2[[#This Row],[Column2]]) -> 2.0987363 | M4: =G6 -> 23616.02 | N4: 2.0366665
A5: 3 | B5: 125.52676 | C5: 975 | D5: 3.73 | E5: =(C5+273.15)*(20+LOG(D5/60)) -> 23457.179 | G5: =Table2[[#This Row],[Column5]] -> 23457.179 | H5: =LOG(Table2[[#This Row],[Column2]]) -> 2.0987363 | M5: =G4 -> 23414.333 | N5: 2.0987363
A6: 4 | B6: 108.80941 | C6: 975 | D6: 5 | E6: =(C6+273.15)*(20+LOG(D6/60)) -> 23616.02 | G6: =Table2[[#This Row],[Column5]] -> 23616.02 | H6: =LOG(Table2[[#This Row],[Column2]]) -> 2.0366665 | M6: =G5 -> 23457.179 | N6: 2.0987363
A7: 5 | B7: 100.51359 | C7: 975 | D7: 4.667 | E7: =(C7+273.15)*(20+LOG(D7/60)) -> 23578.66 | G7: =Table2[[#This Row],[Column5]] -> 23578.66 | H7: =LOG(Table2[[#This Row],[Column2]]) -> 2.0022248 | M7: =G3 -> 23697.192 | N7: 2.0987363
